BEGIN:VCALENDAR
VERSION:2.0
PRODID:-//ChamberMaster//Event Calendar 2.0//EN
METHOD:PUBLISH
X-PUBLISHED-TTL:P3D
REFRESH-INTERVAL:P3D
CALSCALE:GREGORIAN
BEGIN:VEVENT
DTSTART:20261008T220000Z
DTEND:20261009T010000Z
X-MICROSOFT-CDO-ALLDAYEVENT:FALSE
SUMMARY:Wine Women & Shoes
DESCRIPTION:Sip   Savor   Shop   Support\n\nAn engaging and exciting fundraising event where community-minded\, philanthropic women (and a few good men) gather to sip\, shop\, savor\, and support a worthy cause in a chic\, fun\, and innovative way.\n\nThis signature fundraising event ignites the senses from the moment you step through the door. From wine tasting and designer pop-up boutiques\, mingling with charming Shoe Guys and the seated program with fun\, fare\, and family\, you will remember the many "WOW" moments while supporting a great cause.
X-ALT-DESC;FMTTYPE=text/html:<p style="text-align:center">Sip &ndash\; Savor &ndash\; Shop &ndash\;&nbsp\;Support</p>\n\n<p style="text-align:center">An engaging and exciting fundraising event where community-minded\, philanthropic women (and a few good men) gather to sip\, shop\, savor\, and support a worthy cause in a chic\, fun\, and innovative way.</p>\n\n<p style="text-align:center">This signature fundraising event ignites the senses from the moment you step through the door. From wine tasting and designer pop-up boutiques\, mingling with charming Shoe Guys and the seated program with fun\, fare\, and family\, you will remember the many &ldquo\;WOW&rdquo\; moments while supporting a great cause.</p>\n
LOCATION:The Bell Auditorium 712 Telfair St. Augusta\, GA 30901
UID:e.291.24770
SEQUENCE:3
DTSTAMP:20260419T125253Z
URL:https://business.columbiacountychamber.com/events/details/wine-women-shoes-24770
END:VEVENT

END:VCALENDAR
